Workbook

Sheet Аппаратный журнал
A1: Аппаратный журнал УКВ-соревнования "Уральское время"
A2: Частота: 145,425 - 145, 575 МГц, шаг 25кГц или 12.5 кГц (145,500 МГц - вызываемая частота, лучше связь не проводить)
B4: П Р И Е М | H4: П Е Р Е Д А Ч А
B5: № сеанса | C5: Позывной | D5: QTH (локатор) | E5: Время | F5: Частота, МГЦ | H5: № сеанса | I5: Позывной | J5: QTH (локатор) | K5: Время | L5: Частота, МГЦ
A6: 1 | B6: 59001 | H6: 59001 | I6: =$C$18 -> ub8fabb | J6: =$C$19 -> lo87cx
A7: 2 | B7: 59002 | H7: 59002 | I7: =$C$18 -> ub8fabb | J7: =$C$19 -> lo87cx
A8: 3 | B8: 59003 | H8: 59003 | I8: =$C$18 -> ub8fabb | J8: =$C$19 -> lo87cx
A9: 4 | B9: 59004 | H9: 59004 | I9: =$C$18 -> ub8fabb | J9: =$C$19 -> lo87cx
A10: 5 | B10: 59005 | H10: 59005 | I10: =$C$18 -> ub8fabb | J10: =$C$19 -> lo87cx
A11: 6 | B11: 59006 | H11: 59006 | I11: =$C$18 -> ub8fabb | J11: =$C$19 -> lo87cx
A12: 7 | B12: 59007 | H12: 59007 | I12: =$C$18 -> ub8fabb | J12: =$C$19 -> lo87cx
A13: 8 | B13: 59008 | H13: 59008 | I13: =$C$18 -> ub8fabb | J13: =$C$19 -> lo87cx
A14: 9 | B14: 59009 | H14: 59009 | I14: =$C$18 -> ub8fabb | J14: =$C$19 -> lo87cx
A15: 10 | B15: 59010 | H15: 59010 | I15: =$C$18 -> ub8fabb | J15: =$C$19 -> lo87cx
A16: … | B16: … | H16: …
A18: Ведите ваш позывной | C18: ub8fabb | D18: (анг. алфавит) | E18: ="("&W18&" "&X18&" "&Y18&" "&Z18&" "&AA18&" "&AB18&" "&AC18&")" -> (Ульяна Борис Восемь Федор Анна Борис Борис) | O18: =MID(C18,1,1) -> u | P18: =MID(C18,2,1) -> b | Q18: =MID(C18,3,1)*1 -> 8 | R18: =MID(C18,4,1) -> f | S18: =MID(C18,5,1) -> a | T18: =MID(C18,6,1) -> b | U18: =MID(C18,7,1) -> b | W18: =VLOOKUP(O18,Фон_алфавит!$A$3:$D$38,4,) -> Ульяна | X18: =VLOOKUP(P18,Фон_алфавит!$A$3:$D$38,4,) -> Борис | Y18: =VLOOKUP(Q18,Фон_алфавит!$A$3:$D$38,4,) -> Восемь | Z18: =VLOOKUP(R18,Фон_алфавит!$A$3:$D$38,4,) -> Федор | AA18: =VLOOKUP(S18,Фон_алфавит!$A$3:$D$38,4,) -> Анна | AB18: =VLOOKUP(T18,Фон_алфавит!$A$3:$D$38,4,) -> Борис | AC18: =VLOOKUP(U18,Фон_алфавит!$A$3:$D$38,4,) -> Борис
A19: Ведите Ваш QTH (локатор) | C19: lo87cx | D19: (анг. алфавит) | E19: ="("&W19&" "&X19&" "&Y19&" "&Z19&" "&AA19&" "&AB19&" "&AC19&")" -> (Леонид Ольга Восемь Семь цапля мягкий знак ) | O19: =MID(C19,1,1) -> l | P19: =MID(C19,2,1) -> o | Q19: =MID(C19,3,1)*1 -> 8 | R19: =MID(C19,4,1)*1 -> 7 | S19: =MID(C19,5,1) -> c | T19: =MID(C19,6,1) -> x | W19: =VLOOKUP(O19,Фон_алфавит!$A$3:$D$38,4,) -> Леонид | X19: =VLOOKUP(P19,Фон_алфавит!$A$3:$D$38,4,) -> Ольга | Y19: =VLOOKUP(Q19,Фон_алфавит!$A$3:$D$38,4,) -> Восемь | Z19: =VLOOKUP(R19,Фон_алфавит!$A$3:$D$38,4,) -> Семь | AA19: =VLOOKUP(S19,Фон_алфавит!$A$3:$D$38,4,) -> цапля | AB19: =VLOOKUP(T19,Фон_алфавит!$A$3:$D$38,4,) -> мягкий знак
A21: Я: | B21: Внимание всем участникам соревнования!
B22: Здесь | C22: =E18 -> (Ульяна Борис Восемь Федор Анна Борис Борис)
B23: Всем привет!
H24: Здесь Радио | I24: =E18 -> (Ульяна Борис Восемь Федор Анна Борис Борис)
H25: Вам 5900_(номер сеанса связи передачи)
H26: мой локатор, | I26: =E19 -> (Леонид Ольга Восемь Семь цапля мягкий знак )
H27: время (пример 10:20 часов). Как принял? Прием!
A28: Я: | B28: Записал! Для Вас 5900_(номер сеанса приема),
B29: мой локатор, | C29: =E19 -> (Леонид Ольга Восемь Семь цапля мягкий знак )
B30: время (пример 10:20 часов). Как принял? Прием!
H31: Принял Вас хорошо, спасибо за связь, с Новым годом, удачи! Семь три.
A32: Я: | B32: Взаимно, с Новым годом, семь три!

Sheet Фон_алфавит
A1: Английский алфавит | C1: Русский алфавит | G1: Русский алфавит / цифры
A2: Официальный вариант | C2: Официальный вариант | E2: Допустимый вариант | G2: Официальный вариант | I2: Допустимый вариант | K2: Цифры
A3: A | B3: Alpha | C3: А | D3: Анна | E3: Антон | G3: А | H3: Анна | I3: Антон | K3: 1 | L3: Один
A4: B | B4: Bravo | C4: Б | D4: Борис | E4: Боря | G4: Б | H4: Борис | I4: Боря | K4: 2 | L4: Два
A5: C | B5: Charlie | C5: Ц | D5: цапля | E5: центр | G5: В | H5: Василий | K5: 3 | L5: Три
A6: D | B6: Delta | C6: Д | D6: Дмитрий | E6: Дима | G6: Г | H6: Григорий | I6: Галина | K6: 4 | L6: Четыре
A7: E | B7: Echo | C7: Е | D7: Елена | G7: Д | H7: Дмитрий | I7: Дима | K7: 5 | L7: Пять
A8: F | B8: Foxtrot | C8: Ф | D8: Федор | G8: Е | H8: Елена | K8: 6 | L8: Шесть
A9: G | B9: Golf | C9: Г | D9: Григорий | E9: Галина | G9: Ё | H9: ёлка | K9: 7 | L9: Семь
A10: H | B10: Hotel | C10: Х | D10: Харитон | G10: Ж | H10: Женя | I10: жук | K10: 8 | L10: Восемь
A11: I | B11: India | C11: И | D11: Иван | G11: З | H11: Зинаида | I11: Зоя | K11: 9 | L11: Девять
A12: J | B12: Juliet | C12: Й | D12: Иван краткий | E12: йот | G12: И | H12: Иван | K12: 0 | L12: Ноль
A13: K | B13: Kilo | C13: К | D13: Константин | E13: киловатт | G13: Й | H13: Иван краткий | I13: йот
A14: L | B14: Lima | C14: Л | D14: Леонид | E14: Лёня | G14: К | H14: Константин | I14: киловатт
A15: M | B15: Mike | C15: М | D15: Михаил | E15: Мария | G15: Л | H15: Леонид | I15: Лёня
A16: N | B16: November | C16: Н | D16: Николай | G16: М | H16: Михаил | I16: Мария
A17: O | B17: Oskar | C17: О | D17: Ольга | G17: Н | H17: Николай
A18: P | B18: Papa | C18: П | D18: Павел | G18: О | H18: Ольга
A19: Q | B19: Quebec | C19: Щ | D19: щука | G19: П | H19: Павел
A20: R | B20: Romeo | C20: Р | D20: Роман | E20: радио | G20: Р | H20: Роман | I20: радио
A21: S | B21: Sierra | C21: С | D21: Семен | E21: Сергей | G21: С | H21: Семен | I21: Сергей
A22: T | B22: Tango | C22: Т | D22: Татьяна | E22: Тамара | G22: Т | H22: Татьяна | I22: Тамара
A23: U | B23: Uniform | C23: У | D23: Ульяна | G23: У | H23: Ульяна
A24: V | B24: Viktor | C24: Ж | D24: Женя | E24: жук | G24: Ф | H24: Федор
A25: W | B25: whisky | C25: В | D25: Василий | G25: Х | H25: Харитон
A26: X | B26: xray | C26: Ь | D26: мягкий знак | E26: икс | G26: Ц | H26: цапля | I26: центр
A27: Y | B27: Yankee | C27: Ы | D27: еры | G27: Ч | H27: человек
A28: Z | B28: zulu | C28: З | D28: Зинаида | E28: Зоя | G28: Ш | H28: Шура
A29: 1 | D29: Один | G29: Щ | H29: щука
A30: 2 | D30: Два | G30: Ъ | H30: твердый знак
A31: 3 | D31: Три | G31: Ы | H31: еры
A32: 4 | D32: Четыре | G32: ь | H32: мягкий знак | I32: икс
A33: 5 | D33: Пять | G33: Э | H33: эхо | I33: Эмма
A34: 6 | D34: Шесть | G34: Ю | H34: Юрий
A35: 7 | D35: Семь | G35: Я | H35: Яков
A36: 8 | D36: Восемь
A37: 9 | D37: Девять
A38: 0 | D38: Ноль
